BEGIN:VCALENDAR
VERSION:2.0
PRODID:spatie/icalendar-generator
DESCRIPTION:Events from Elton Liberal Club
X-WR-CALDESC:Events from Elton Liberal Club
REFRESH-INTERVAL;VALUE=DURATION:PT1440M
X-PUBLISHED-TTL:PT1440M
BEGIN:VTIMEZONE
TZID:Europe/London
BEGIN:DAYLIGHT
DTSTART:20250330T010000Z
TZOFFSETFROM:+0000
TZOFFSETTO:+0100
END:DAYLIGHT
BEGIN:STANDARD
DTSTART:20251026T020000Z
TZOFFSETFROM:+0100
TZOFFSETTO:+0000
END:STANDARD
BEGIN:DAYLIGHT
DTSTART:20260329T010000Z
TZOFFSETFROM:+0000
TZOFFSETTO:+0100
END:DAYLIGHT
END:VTIMEZONE
BEGIN:VTIMEZONE
TZID:UTC
BEGIN:STANDARD
DTSTART:20250725T080015Z
TZOFFSETFROM:+0000
TZOFFSETTO:+0000
END:STANDARD
END:VTIMEZONE
BEGIN:VEVENT
UID:28-6
DTSTAMP:20260421T080015Z
SUMMARY:Sunday Club with Becky Mellor
LOCATION:
ORGANIZER;CN=Tom Moore:MAILTO:tom@eltonliberalclub.co.uk
DTSTART;TZID=Europe/London:20251012T160000
DTEND;TZID=Europe/London:20251012T170000
X-ALT-DESC;FMTTYPE=TEXT/HTML:
CATEGORIES:General
URL;VALUE=URI:https://eltonliberalclub.co.uk/mc-events/sunday-club-with-bec
 ky-mellor/?mc_id=28
END:VEVENT
END:VCALENDAR